BEGIN:VCALENDAR
VERSION:2.0
PRODID:-//SVP Kanton Zürich //NONSGML Events //EN
CALSCALE:GREGORIAN
X-WR-CALNAME:SVP Kanton Zürich
BEGIN:VEVENT
CREATED:20190301T094446Z
UID:13499
DTEND:20190316T140000
DTSTART:20190316T093000
DTSTAMP:20260425T140300Z
LOCATION:im Mehlhüsli Seuzach\,
DESCRIPTION:Wahlkampf-Veranstaltung mit Regierungsratskandidatin Natalie Rickli, R
SUMMARY:Bezirk Winterthur / Seuzach: Wahlkampf-Veranstaltung
ORGANIZER:Bezirk Winterthur / Seuzach
URL;VALUE=URI:https://www.svp-zuerich.ch/aktuell/termine/bezirk-winterthur-seuzach-wahlkampf-veranstaltung/
TRANSP:OPAQUE
END:VEVENT
END:VCALENDAR
