BEGIN:VCALENDAR
VERSION:2.0
PRODID:-//SVP Kanton Zürich //NONSGML Events //EN
CALSCALE:GREGORIAN
X-WR-CALNAME:SVP Kanton Zürich
BEGIN:VEVENT
CREATED:20190307T085145Z
UID:13542
DTEND:20190309T180000
DTSTART:20190309T170000
DTSTAMP:20260421T151820Z
LOCATION:Restaurant Kornhaus\, Langstrasse 243\, Zürich
DESCRIPTION:Fondue-Plausch mit den Nationalräten Alfred Heer und Mauro Tuena sowi
SUMMARY:Stadt Zürich: Fondue-Plausch
ORGANIZER:SVP Stadt Zürich
URL;VALUE=URI:https://www.svp-zuerich.ch/aktuell/termine/stadt-zuerich-fondue-plausch/
TRANSP:OPAQUE
END:VEVENT
END:VCALENDAR
