BEGIN:VCALENDAR
VERSION:2.0
PRODID:-//SVP Kanton Zürich //NONSGML Events //EN
CALSCALE:GREGORIAN
X-WR-CALNAME:SVP Kanton Zürich
BEGIN:VEVENT
CREATED:20190307T085522Z
UID:13545
DTEND:20190310T120000
DTSTART:20190310T110000
DTSTAMP:20260421T102332Z
LOCATION:Best Western Hotel Spirgarten\, Lindenplatz 5\, Zürich
DESCRIPTION:Puure-Zmorge mit Nationalrat Gregor Rutz, den Kantonsräten Ueli Bamer
SUMMARY:Stadt Zürich: Puure-Zmorge
ORGANIZER:SVP Stadt Zürich
URL;VALUE=URI:https://www.svp-zuerich.ch/aktuell/termine/stadt-zuerich-puure-zmorge/
TRANSP:OPAQUE
END:VEVENT
END:VCALENDAR
