BEGIN:VCALENDAR
VERSION:2.0
PRODID:-//SVP Kanton Zürich //NONSGML Events //EN
CALSCALE:GREGORIAN
X-WR-CALNAME:SVP Kanton Zürich
BEGIN:VEVENT
CREATED:20190320T153717Z
UID:13628
DTEND:20190323T120000
DTSTART:20190323T110000
DTSTAMP:20260425T193155Z
LOCATION:Bahnhofstrasse 15\, Schlieren
DESCRIPTION:
SUMMARY:Bezirk Dietikon: Sessionsapéro mit Nationalrat Hans Egloff
ORGANIZER:Bezirk Dietikon
URL;VALUE=URI:https://www.svp-zuerich.ch/aktuell/termine/bezirk-dietikon-sessionsapero-mit-nationalrat-hans-egloff/
TRANSP:OPAQUE
END:VEVENT
END:VCALENDAR
