BEGIN:VCALENDAR
VERSION:2.0
PRODID:-//SVP Kanton Zürich //NONSGML Events //EN
CALSCALE:GREGORIAN
X-WR-CALNAME:SVP Kanton Zürich
BEGIN:VEVENT
CREATED:20190404T110334Z
UID:13733
DTEND:20190501T150000
DTSTART:20190501T140000
DTSTAMP:20260424T065800Z
LOCATION:Schützenhaus\, Schützenhausstrasse 31\, Meilen
DESCRIPTION:Ab 14.00 Uhr Kleinkaliberschiessen, ab 16.00 Uhr Rede von Nationalrat 
SUMMARY:Bezirk Meilen / Meilen: 1. Mai-Veranstaltung
ORGANIZER:
URL;VALUE=URI:https://www.svp-zuerich.ch/aktuell/termine/bezirk-meilen-meilen-1-mai-veranstaltung/
TRANSP:OPAQUE
END:VEVENT
END:VCALENDAR
