BEGIN:VCALENDAR
VERSION:2.0
PRODID:-//SVP Kanton Zürich //NONSGML Events //EN
CALSCALE:GREGORIAN
X-WR-CALNAME:SVP Kanton Zürich
BEGIN:VEVENT
CREATED:20190430T221258Z
UID:13849
DTEND:20190703T200000
DTSTART:20190703T191000
DTSTAMP:20260425T135944Z
LOCATION:Schiffsteg Uetikon am See
DESCRIPTION:Schifffahrt mit Regierungsrat Ernst Stocker auf dem Zürichsee mit MS 
SUMMARY:Bezirk Meilen: Schifffahrt mit Regierungsrat Ernst Stocker auf dem Zürichsee
ORGANIZER:
URL;VALUE=URI:https://www.svp-zuerich.ch/aktuell/termine/bezirk-meilen-schifffahrt-mit-regierungsrat-ernst-stocker-auf-dem-zuerichsee/
TRANSP:OPAQUE
END:VEVENT
END:VCALENDAR
