BEGIN:VCALENDAR
VERSION:2.0
PRODID:-//SVP Kanton Zürich //NONSGML Events //EN
CALSCALE:GREGORIAN
X-WR-CALNAME:SVP Kanton Zürich
BEGIN:VEVENT
CREATED:20190508T151534Z
UID:13898
DTEND:20190629T180000
DTSTART:20190629T173000
DTSTAMP:20260420T022923Z
LOCATION:Kath. Pfarreizentrum Leepünt\, Leepüntstrasse 14\, Dübendorf
DESCRIPTION:Apéro 17.30 Uhr Jubiläumsfeier 100 Jahre SVP Dübendorf u. a. mit Pa
SUMMARY:Bezirk Uster / Dübendorf: Jubiläumsfeier 100 Jahre SVP Dübendorf
ORGANIZER:
URL;VALUE=URI:https://www.svp-zuerich.ch/aktuell/termine/bezirk-uster-duebendorf-jubilaeumsfeier-100-jahre-svp-duebendorf/
TRANSP:OPAQUE
END:VEVENT
END:VCALENDAR
