BEGIN:VCALENDAR
VERSION:2.0
PRODID:-//SVP Kanton Zürich //NONSGML Events //EN
CALSCALE:GREGORIAN
X-WR-CALNAME:SVP Kanton Zürich
BEGIN:VEVENT
CREATED:20190516T085851Z
UID:13981
DTEND:20190901T230000
DTSTART:20190831T110000
DTSTAMP:20260420T161017Z
LOCATION:Schwamendinger Chilbi
DESCRIPTION:SVP-Festzelt an der Schwamendinger Chilbi
SUMMARY:Stadt Zürich / Kreis 12: SVP-Festzelt an der Schwamendinger Chilbi
ORGANIZER:
URL;VALUE=URI:https://www.svp-zuerich.ch/aktuell/termine/stadt-zuerich-kreis-12-svp-festzelt-an-der-schwamendinger-chilbi/
TRANSP:OPAQUE
END:VEVENT
END:VCALENDAR
