BEGIN:VCALENDAR
VERSION:2.0
PRODID:-//SVP Kanton Zürich //NONSGML Events //EN
CALSCALE:GREGORIAN
X-WR-CALNAME:SVP Kanton Zürich
BEGIN:VEVENT
CREATED:20190704T133520Z
UID:14264
DTEND:20190801T210000
DTSTART:20190801T204500
DTSTAMP:20260425T134746Z
LOCATION:Chilchberg\, Dürnten
DESCRIPTION:Programm
SUMMARY:Bezirk Hinwil / Dürnten: Festansprache mit Regierungsrat Ernst Stocker
ORGANIZER:
URL;VALUE=URI:https://www.svp-zuerich.ch/aktuell/termine/1-august-ansprache-mit-regierungsrat-ernst-stocker/
TRANSP:OPAQUE
END:VEVENT
END:VCALENDAR
