BEGIN:VCALENDAR
VERSION:2.0
PRODID:-//SVP Kanton Zürich //NONSGML Events //EN
CALSCALE:GREGORIAN
X-WR-CALNAME:SVP Kanton Zürich
BEGIN:VEVENT
CREATED:20190704T134858Z
UID:14274
DTEND:20190801T110000
DTSTART:20190801T100000
DTSTAMP:20260425T134801Z
LOCATION:Schulhaus Altlandenberg\, Altlandenbergstrasse 4\, Bauma
DESCRIPTION:
SUMMARY:Bezirk Pfäffikon / Bauma: Festrede mit Regierungsrat Ernst Stocker
ORGANIZER:
URL;VALUE=URI:https://www.svp-zuerich.ch/aktuell/termine/1-august-ansprache-mit-regierungsrat-ernst-stocker-2/
TRANSP:OPAQUE
END:VEVENT
END:VCALENDAR
