BEGIN:VCALENDAR
VERSION:2.0
PRODID:-//SVP Kanton Zürich //NONSGML Events //EN
CALSCALE:GREGORIAN
X-WR-CALNAME:SVP Kanton Zürich
BEGIN:VEVENT
CREATED:20190711T102006Z
UID:14396
DTEND:20190801T193000
DTSTART:20190801T180000
DTSTAMP:20260419T171032Z
LOCATION:Schloss Teufen\, Schlossgasse\, Freienstein-Teufen
DESCRIPTION:
SUMMARY:Bezirk Bülach / Freienstein-Teufen: Festrede von Regierungsrat Ernst Stocker
ORGANIZER:
URL;VALUE=URI:https://www.svp-zuerich.ch/aktuell/termine/bezirk-buelach-freienstein-teufen-festrede-von-regierungsrat-ernst-stocker/
TRANSP:OPAQUE
END:VEVENT
END:VCALENDAR
