BEGIN:VCALENDAR
VERSION:2.0
PRODID:-//SVP Kanton Zürich //NONSGML Events //EN
CALSCALE:GREGORIAN
X-WR-CALNAME:SVP Kanton Zürich
BEGIN:VEVENT
CREATED:20190711T103841Z
UID:14420
DTEND:20191005T170000
DTSTART:20191005T100000
DTSTAMP:20260420T044650Z
LOCATION:Bergstrasse\, Uetikon am See
DESCRIPTION:
SUMMARY:Bezirk Meilen / Uetikon am See: Herbstmärt
ORGANIZER:
URL;VALUE=URI:https://www.svp-zuerich.ch/aktuell/termine/bezirk-meilen-uetikon-am-see/
TRANSP:OPAQUE
END:VEVENT
END:VCALENDAR
