BEGIN:VCALENDAR
VERSION:2.0
PRODID:-//SVP Kanton Zürich //NONSGML Events //EN
CALSCALE:GREGORIAN
X-WR-CALNAME:SVP Kanton Zürich
BEGIN:VEVENT
CREATED:20190730T054020Z
UID:14998
DTEND:20190822T220000
DTSTART:20190822T180000
DTSTAMP:20260424T091908Z
LOCATION:Zeughausareal Uster\, Berchtoldstrasse 10\, 8610 Uster
DESCRIPTION:Zum Programm
SUMMARY:Wahlauftakt für die Nationalratswahlen
ORGANIZER:
URL;VALUE=URI:https://www.svp-zuerich.ch/aktuell/termine/wahlauftakt-fuer-die-nationalratswahlen/
TRANSP:OPAQUE
END:VEVENT
END:VCALENDAR
