BEGIN:VCALENDAR
VERSION:2.0
PRODID:-//SVP Kanton Zürich //NONSGML Events //EN
CALSCALE:GREGORIAN
X-WR-CALNAME:SVP Kanton Zürich
BEGIN:VEVENT
CREATED:20190807T163924Z
UID:15122
DTEND:20191003T200000
DTSTART:20191003T193000
DTSTAMP:20260425T140304Z
LOCATION:Weingut Hans Wiesendanger\, Ossingen
DESCRIPTION:
SUMMARY:Bezirk Andelfingen / Ossingen: &#8222\;Grossanlass &#8211\; Ohne Bauern keine Schweiz&#8220\; mit NR Markus Ritter\, Regierungsrat Ernst Stocker und den NR-Kandidaten Konrad Langhart und Paul Mayer.
ORGANIZER:
URL;VALUE=URI:https://www.svp-zuerich.ch/aktuell/termine/bezirk-andelfingen-ossingen-grossanlass-ohne-bauern-keine-schweiz-mit-nr-markus-ritter-regierungsrat-ernst-stocker-und-den-nr-kandidaten-konrad-langhart-und-paul-mayer/
TRANSP:OPAQUE
END:VEVENT
END:VCALENDAR
