BEGIN:VCALENDAR
VERSION:2.0
PRODID:-//SVP Kanton Zürich //NONSGML Events //EN
CALSCALE:GREGORIAN
X-WR-CALNAME:SVP Kanton Zürich
BEGIN:VEVENT
CREATED:20190807T164407Z
UID:15130
DTEND:20190829T190000
DTSTART:20190829T180000
DTSTAMP:20260420T013805Z
LOCATION:Kongresszentrum Spirgarten\, Lindenplatz 5\, Zürich
DESCRIPTION:
SUMMARY:Stadt Zürich / Kreis 9: Sommernacht-Apéro mit NR Alfred Heer und NR-Kandidatin Susanne Brunner.
ORGANIZER:
URL;VALUE=URI:https://www.svp-zuerich.ch/aktuell/termine/stadt-zuerich-kreis-9-sommernacht-apero-mit-nationalratskandidaten/
TRANSP:OPAQUE
END:VEVENT
END:VCALENDAR
