BEGIN:VCALENDAR
VERSION:2.0
PRODID:-//SVP Kanton Zürich //NONSGML Events //EN
CALSCALE:GREGORIAN
X-WR-CALNAME:SVP Kanton Zürich
BEGIN:VEVENT
CREATED:20190821T144012Z
UID:15286
DTEND:20191002T200000
DTSTART:20191002T180000
DTSTAMP:20260421T103744Z
LOCATION:Sulser Group/Swiss Logistics Academy AG\, Industriestrasse 36\, Otelfingen
DESCRIPTION:Überparteilicher Grossanlass «Lernen Sie Ihre Spitzenkandidaten aus 
SUMMARY:Bezirk Dielsdorf / Otelfingen: Überparteilicher Grossanlass in Otelfingen «Lernen Sie Ihre Spitzenkandidaten aus dem Gewerbe persönlich kennen» mit NR Alfred Heer und NR-Kandidat Jürg Sulser.
ORGANIZER:
URL;VALUE=URI:https://www.svp-zuerich.ch/aktuell/termine/bezirk-dielsdorf-otelfingen-lernen-sie-ihre-spitzenkandidaten-aus-dem-gewerbe-persoenlich-kennen-mit-nr-alfred-heer-und-nr-kandidat-juerg-sulser/
TRANSP:OPAQUE
END:VEVENT
END:VCALENDAR
