BEGIN:VCALENDAR
VERSION:2.0
PRODID:-//SVP Kanton Zürich //NONSGML Events //EN
CALSCALE:GREGORIAN
X-WR-CALNAME:SVP Kanton Zürich
BEGIN:VEVENT
CREATED:20190926T112454Z
UID:16001
DTEND:20191002T190000
DTSTART:20191002T180000
DTSTAMP:20260423T084144Z
LOCATION:Restaurant Freihof\, Dürntnerstrasse 4\, Hinwil
DESCRIPTION:
SUMMARY:Bezirk Hinwil / Hinwil: Feierabend-Apéro mit NR Mauro Tuena und NR-Kandidatin Nicole Ward-Brändli.
ORGANIZER:
URL;VALUE=URI:https://www.svp-zuerich.ch/aktuell/termine/bezirk-hinwil-hinwil-feierabend-apero-mit-nr-mauro-tuena-und-nr-kandidatin-nicole-ward-braendli/
TRANSP:OPAQUE
END:VEVENT
END:VCALENDAR
