BEGIN:VCALENDAR
VERSION:2.0
PRODID:-//SVP Kanton Zürich //NONSGML Events //EN
CALSCALE:GREGORIAN
X-WR-CALNAME:SVP Kanton Zürich
BEGIN:VEVENT
CREATED:20190926T114620Z
UID:16011
DTEND:20191020T150000
DTSTART:20191020T140000
DTSTAMP:20260424T090944Z
LOCATION:Restaurant Rössli\, Kempttalstrasse 52\, Illnau
DESCRIPTION:SVP-Wahltreff u. a. mit Ständeratskandidat Roger Köppel und Parteipr
SUMMARY:Kanton Zürich: Wahltreff
ORGANIZER:
URL;VALUE=URI:https://www.svp-zuerich.ch/aktuell/termine/kanton-zuerich-wahltreff/
TRANSP:OPAQUE
END:VEVENT
END:VCALENDAR
