BEGIN:VCALENDAR
VERSION:2.0
PRODID:-//SVP Kanton Zürich //NONSGML Events //EN
CALSCALE:GREGORIAN
X-WR-CALNAME:SVP Kanton Zürich
BEGIN:VEVENT
CREATED:20191030T072408Z
UID:16304
DTEND:20200814T000000
DTSTART:20200713T000000
DTSTAMP:20260420T152516Z
LOCATION:
DESCRIPTION:
SUMMARY:Sommerferien
ORGANIZER:
URL;VALUE=URI:https://www.svp-zuerich.ch/aktuell/termine/sommerferien/
TRANSP:OPAQUE
END:VEVENT
END:VCALENDAR
