BEGIN:VCALENDAR
VERSION:2.0
PRODID:-//SVP Kanton Zürich //NONSGML Events //EN
CALSCALE:GREGORIAN
X-WR-CALNAME:SVP Kanton Zürich
BEGIN:VEVENT
CREATED:20191031T135721Z
UID:16332
DTEND:20191106T140000
DTSTART:20191106T113000
DTSTAMP:20260424T091731Z
LOCATION:Restaurant Stube\, Uf de Strass 1\, Marthalen
DESCRIPTION:Mittagessen auf Kosten der Teilnehmer
SUMMARY:Bezirk Andelfingen: SVP-Politlunch mit Parteipräsident Patrick Walder.
ORGANIZER:
URL;VALUE=URI:https://www.svp-zuerich.ch/aktuell/termine/bezirk-andelfingen-svp-politlunch-mit-parteipraesident-patrick-walder/
TRANSP:OPAQUE
END:VEVENT
END:VCALENDAR
