BEGIN:VCALENDAR
VERSION:2.0
PRODID:-//SVP Kanton Zürich //NONSGML Events //EN
CALSCALE:GREGORIAN
X-WR-CALNAME:SVP Kanton Zürich
BEGIN:VEVENT
CREATED:20191127T130828Z
UID:16474
DTEND:20200102T110000
DTSTART:20200102T10300930
DTSTAMP:20260419T130718Z
LOCATION:BBC-Arena\, Schweizersbildstrasse 10\, Schaffhausen
DESCRIPTION:Mit alt Bundesrat Christoph Blocher: "Würdigung von Schaffhauser Pers
SUMMARY:Schaffhausen: Berchtoldstag-Veranstaltung
ORGANIZER:
URL;VALUE=URI:https://www.svp-zuerich.ch/aktuell/termine/schaffhausen-berchtoldstag-veranstaltung/
TRANSP:OPAQUE
END:VEVENT
END:VCALENDAR
