BEGIN:VCALENDAR
VERSION:2.0
PRODID:-//SVP Kanton Zürich //NONSGML Events //EN
CALSCALE:GREGORIAN
X-WR-CALNAME:SVP Kanton Zürich
BEGIN:VEVENT
CREATED:20210305T060940Z
UID:21835
DTEND:20211107T110000
DTSTART:20211107T100000
DTSTAMP:20260424T050944Z
LOCATION:
DESCRIPTION:Lokalität noch offen, Winterthur.
SUMMARY:Stadt Winterthur: Spaghetti-Plausch
ORGANIZER:
URL;VALUE=URI:https://www.svp-zuerich.ch/aktuell/termine/stadt-winterthur-spaghetti-plausch/
TRANSP:OPAQUE
END:VEVENT
END:VCALENDAR
