BEGIN:VCALENDAR
VERSION:2.0
PRODID:-//SVP Kanton Zürich //NONSGML Events //EN
CALSCALE:GREGORIAN
X-WR-CALNAME:SVP Kanton Zürich
BEGIN:VEVENT
CREATED:20210623T073743Z
UID:23272
DTEND:20211023T110000
DTSTART:20211023T100000
DTSTAMP:20260425T103343Z
LOCATION:
DESCRIPTION:Schaffhauserplatz, Zürich.
SUMMARY:Stadt Zürich / Kreis 6: Standaktion
ORGANIZER:
URL;VALUE=URI:https://www.svp-zuerich.ch/aktuell/termine/stadt-zuerich-kreis-6-standaktion-10/
TRANSP:OPAQUE
END:VEVENT
END:VCALENDAR
