BEGIN:VCALENDAR
VERSION:2.0
PRODID:-//SVP Kanton Zürich //NONSGML Events //EN
CALSCALE:GREGORIAN
X-WR-CALNAME:SVP Kanton Zürich
BEGIN:VEVENT
CREATED:20210630T111621Z
UID:23353
DTEND:20210917T200000
DTSTART:20210917T190000
DTSTAMP:20260423T093315Z
LOCATION:
DESCRIPTION:Mehrzweckhalle Hettlingen. Einsatz: Fr. 20.-. Anmeldung an eliane.cu
SUMMARY:Bezirk Winterthur / Hettlingen: Schieber-Jass mit zugelostem Partner
ORGANIZER:
URL;VALUE=URI:https://www.svp-zuerich.ch/aktuell/termine/winterthur-hettlingen-schieber-jass-mit-zugelostem-partner/
TRANSP:OPAQUE
END:VEVENT
END:VCALENDAR
