BEGIN:VCALENDAR
VERSION:2.0
PRODID:-//SVP Kanton Zürich //NONSGML Events //EN
CALSCALE:GREGORIAN
X-WR-CALNAME:SVP Kanton Zürich
BEGIN:VEVENT
CREATED:20211101T163012Z
UID:24328
DTEND:20220115T100000
DTSTART:20220115T090000
DTSTAMP:20260419T140729Z
LOCATION:
DESCRIPTION:Marktplatz, Zürich-Oerlikon.
SUMMARY:Stadt Zürich / Kreis 11: Standaktion
ORGANIZER:
URL;VALUE=URI:https://www.svp-zuerich.ch/aktuell/termine/stadt-zuerich-kreis-11-standaktion-7/
TRANSP:OPAQUE
END:VEVENT
END:VCALENDAR
