BEGIN:VCALENDAR
VERSION:2.0
PRODID:-//SVP Kanton Zürich //NONSGML Events //EN
CALSCALE:GREGORIAN
X-WR-CALNAME:SVP Kanton Zürich
BEGIN:VEVENT
CREATED:20230502T120011Z
UID:28601
DTEND:20230610T120000
DTSTART:20230610T100000
DTSTAMP:20260420T002155Z
LOCATION:
DESCRIPTION:Röschibachplatz, Zürich-Wipkingen.
SUMMARY:Stadt Zürich / Kreis 10: Standaktion
ORGANIZER:
URL;VALUE=URI:https://www.svp-zuerich.ch/aktuell/termine/stadt-zuerich-kreis-10-standaktion-43/
TRANSP:OPAQUE
END:VEVENT
END:VCALENDAR
