BEGIN:VCALENDAR
VERSION:2.0
PRODID:-//SVP Kanton Zürich //NONSGML Events //EN
CALSCALE:GREGORIAN
X-WR-CALNAME:SVP Kanton Zürich
BEGIN:VEVENT
CREATED:20230703T145622Z
UID:29758
DTEND:20230801T180000
DTSTART:20230801T173000
DTSTAMP:20260425T134746Z
LOCATION:
DESCRIPTION:vor dem Gemeindesaal, Zur Mühle 4, Kappel am Albis, mit Regierungsrat
SUMMARY:Bezirk Affoltern / Kappel am Albis: Bundesfeier
ORGANIZER:
URL;VALUE=URI:https://www.svp-zuerich.ch/aktuell/termine/bezirk-affoltern-kappel-am-albis-bundesfeier/
TRANSP:OPAQUE
END:VEVENT
END:VCALENDAR
