BEGIN:VCALENDAR
VERSION:2.0
PRODID:-//SVP Kanton Zürich //NONSGML Events //EN
CALSCALE:GREGORIAN
X-WR-CALNAME:SVP Kanton Zürich
BEGIN:VEVENT
CREATED:20230703T152022Z
UID:29762
DTEND:20230801T220000
DTSTART:20230801T210000
DTSTAMP:20260425T135959Z
LOCATION:
DESCRIPTION:Wisenthalle, Schulstrasse 27, Wiesendangen, mit Regierungsrat Ernst St
SUMMARY:Bezirk Winterthur / Wiesendangen: Bundesfeier
ORGANIZER:
URL;VALUE=URI:https://www.svp-zuerich.ch/aktuell/termine/bezirk-winterthur-wiesendangen-bundesfeier/
TRANSP:OPAQUE
END:VEVENT
END:VCALENDAR
