BEGIN:VCALENDAR
VERSION:2.0
PRODID:-//SVP Kanton Zürich //NONSGML Events //EN
CALSCALE:GREGORIAN
X-WR-CALNAME:SVP Kanton Zürich
BEGIN:VEVENT
CREATED:20230704T053949Z
UID:29799
DTEND:20230801T190000
DTSTART:20230801T183000
DTSTAMP:20260424T102045Z
LOCATION:
DESCRIPTION:Dorfplatz, Alte Landstrasse, Teufen, mit Ständeratskandidat Gregor Ru
SUMMARY:Bezirk Bülach / Freienstein-Teufen: Bundesfeier
ORGANIZER:
URL;VALUE=URI:https://www.svp-zuerich.ch/aktuell/termine/bezirk-buelach-freienstein-teufen-bundesfeier/
TRANSP:OPAQUE
END:VEVENT
END:VCALENDAR
