BEGIN:VCALENDAR
VERSION:2.0
PRODID:-//SVP Kanton Zürich //NONSGML Events //EN
CALSCALE:GREGORIAN
X-WR-CALNAME:SVP Kanton Zürich
BEGIN:VEVENT
CREATED:20230710T063829Z
UID:29928
DTEND:20230801T170000
DTSTART:20230801T160000
DTSTAMP:20260420T141132Z
LOCATION:
DESCRIPTION:Gemeindeparkplatz, Oberdürntnerstrasse, Dürnten, mit Kantonsrat Dani
SUMMARY:Bezirk Hinwil / Dürnten: Bundesfeier
ORGANIZER:
URL;VALUE=URI:https://www.svp-zuerich.ch/aktuell/termine/bezirk-hinwil-duernten-bundesfeier/
TRANSP:OPAQUE
END:VEVENT
END:VCALENDAR
