BEGIN:VCALENDAR
VERSION:2.0
PRODID:-//SVP Kanton Zürich //NONSGML Events //EN
CALSCALE:GREGORIAN
X-WR-CALNAME:SVP Kanton Zürich
BEGIN:VEVENT
CREATED:20230731T094044Z
UID:30791
DTEND:20230820T160000
DTSTART:20230820T150000
DTSTAMP:20260420T113850Z
LOCATION:
DESCRIPTION:Dorfplatz, Alte Landstrasse, Zollikon, mit Ständeratskandidat Gregor 
SUMMARY:Bezirk Meilen / Zollikon: Glacéstand an der Chilbi Zollikon
ORGANIZER:
URL;VALUE=URI:https://www.svp-zuerich.ch/aktuell/termine/bezirk-meilen-zollikon-glacestand-an-der-chilbi-zollikon/
TRANSP:OPAQUE
END:VEVENT
END:VCALENDAR
