BEGIN:VCALENDAR
VERSION:2.0
PRODID:-//SVP Kanton Zürich //NONSGML Events //EN
CALSCALE:GREGORIAN
X-WR-CALNAME:SVP Kanton Zürich
BEGIN:VEVENT
CREATED:20230816T065853Z
UID:31176
DTEND:20230819T110000
DTSTART:20230819T100000
DTSTAMP:20260421T194021Z
LOCATION:
DESCRIPTION:Dorfhuus, Schönenberg, mit Nationalrat Martin Haab und Kantonsrat Mar
SUMMARY:Bezirk Horgen / Wädenswil: Standaktion
ORGANIZER:
URL;VALUE=URI:https://www.svp-zuerich.ch/aktuell/termine/bezirk-horgen-waedenswil-standaktion-4/
TRANSP:OPAQUE
END:VEVENT
END:VCALENDAR
