BEGIN:VCALENDAR
VERSION:2.0
PRODID:-//SVP Kanton Zürich //NONSGML Events //EN
CALSCALE:GREGORIAN
X-WR-CALNAME:SVP Kanton Zürich
BEGIN:VEVENT
CREATED:20230822T154938Z
UID:31365
DTEND:20231118T120000
DTSTART:20231118T090000
DTSTAMP:20260420T101722Z
LOCATION:
DESCRIPTION:Marktplatz, Zürich-Oerlikon, mit Ständeratskandidat Gregor Rutz.
SUMMARY:Stadt Zürich / Kreis 11: Standaktion
ORGANIZER:
URL;VALUE=URI:https://www.svp-zuerich.ch/aktuell/termine/stadt-zuerich-kreis-11-standaktion-54/
TRANSP:OPAQUE
END:VEVENT
END:VCALENDAR
