BEGIN:VCALENDAR
VERSION:2.0
PRODID:-//SVP Kanton Zürich //NONSGML Events //EN
CALSCALE:GREGORIAN
X-WR-CALNAME:SVP Kanton Zürich
BEGIN:VEVENT
CREATED:20230825T150347Z
UID:31507
DTEND:20230921T200000
DTSTART:20230921T190000
DTSTAMP:20260424T092412Z
LOCATION:
DESCRIPTION:House of Mezze, Zeughausareal, Uster, mit den Nationalräten Bruno Wal
SUMMARY:Bezirk Uster / Uster: Wahlanlass
ORGANIZER:
URL;VALUE=URI:https://www.svp-zuerich.ch/aktuell/termine/bezirk-uster-uster-wahlanlass/
TRANSP:OPAQUE
END:VEVENT
END:VCALENDAR
