BEGIN:VCALENDAR
VERSION:2.0
PRODID:-//SVP Kanton Zürich //NONSGML Events //EN
CALSCALE:GREGORIAN
X-WR-CALNAME:SVP Kanton Zürich
BEGIN:VEVENT
CREATED:20230830T085834Z
UID:31644
DTEND:20230902T163000
DTSTART:20230902T154500
DTSTAMP:20260421T020201Z
LOCATION:
DESCRIPTION:bei der Landi, Maur, mit Nationalrat Martin Haab und Kantonsrat Martin
SUMMARY:Bezirk Uster / Maur: Standaktion
ORGANIZER:
URL;VALUE=URI:https://www.svp-zuerich.ch/aktuell/termine/bezirk-uster-maur-standaktion/
TRANSP:OPAQUE
END:VEVENT
END:VCALENDAR
