BEGIN:VCALENDAR
VERSION:2.0
PRODID:-//SVP Kanton Zürich //NONSGML Events //EN
CALSCALE:GREGORIAN
X-WR-CALNAME:SVP Kanton Zürich
BEGIN:VEVENT
CREATED:20230905T085416Z
UID:31910
DTEND:20230914T200000
DTSTART:20230914T190000
DTSTAMP:20260421T103159Z
LOCATION:
DESCRIPTION:Restaurant Muggenbühl, Muggenbühlstrasse 15, Zürich, u.a. mit Stän
SUMMARY:Stadt Zürich / Kreis 1 und 2: Generalversammlung und Wahlkampfanlass
ORGANIZER:
URL;VALUE=URI:https://www.svp-zuerich.ch/aktuell/termine/stadt-zuerich-kreis-1-und-2-generalversammlung-und-wahlkampfanlass/
TRANSP:OPAQUE
END:VEVENT
END:VCALENDAR
