BEGIN:VCALENDAR
VERSION:2.0
PRODID:-//SVP Kanton Zürich //NONSGML Events //EN
CALSCALE:GREGORIAN
X-WR-CALNAME:SVP Kanton Zürich
BEGIN:VEVENT
CREATED:20230906T095259Z
UID:31939
DTEND:20231024T200000
DTSTART:20231024T193000
DTSTAMP:20260420T145313Z
LOCATION:
DESCRIPTION:Restaurant Schützenhaus, Schaffhauserstrasse 201, Winterthur. Zur Ein
SUMMARY:Delegiertenversammlung der SVP des Kantons Zürich
ORGANIZER:
URL;VALUE=URI:https://www.svp-zuerich.ch/aktuell/termine/delegiertenversammlung-der-svp-des-kantons-zuerich-5/
TRANSP:OPAQUE
END:VEVENT
END:VCALENDAR
