BEGIN:VCALENDAR
VERSION:2.0
PRODID:-//SVP Kanton Zürich //NONSGML Events //EN
CALSCALE:GREGORIAN
X-WR-CALNAME:SVP Kanton Zürich
BEGIN:VEVENT
CREATED:20230906T124620Z
UID:31945
DTEND:20230916T120000
DTSTART:20230916T113000
DTSTAMP:20260425T134859Z
LOCATION:
DESCRIPTION:Seebad Bürger II, Seestrasse 60, Thalwil, u.a. mit Ständeratskandida
SUMMARY:Bezirk Horgen / Thalwil: Wahlanlass
ORGANIZER:
URL;VALUE=URI:https://www.svp-zuerich.ch/aktuell/termine/bezirk-horgen-thalwil-wahlanlass/
TRANSP:OPAQUE
END:VEVENT
END:VCALENDAR
