BEGIN:VCALENDAR
VERSION:2.0
PRODID:-//SVP Kanton Zürich //NONSGML Events //EN
CALSCALE:GREGORIAN
X-WR-CALNAME:SVP Kanton Zürich
BEGIN:VEVENT
CREATED:20230920T131142Z
UID:32456
DTEND:20230930T120000
DTSTART:20230930T113000
DTSTAMP:20260425T134801Z
LOCATION:
DESCRIPTION:British Classic Cars AG, Hasentalstrasse 3, Knonau, u.a. mit Ständera
SUMMARY:Bezirk Affoltern / Knonau: Wahlanlass
ORGANIZER:
URL;VALUE=URI:https://www.svp-zuerich.ch/aktuell/termine/bezirk-affoltern-knonau-wahlanlass/
TRANSP:OPAQUE
END:VEVENT
END:VCALENDAR
