BEGIN:VCALENDAR
VERSION:2.0
PRODID:-//SVP Kanton Zürich //NONSGML Events //EN
CALSCALE:GREGORIAN
X-WR-CALNAME:SVP Kanton Zürich
BEGIN:VEVENT
CREATED:20230927T095705Z
UID:32860
DTEND:20231022T170000
DTSTART:20231022T160000
DTSTAMP:20260420T144635Z
LOCATION:
DESCRIPTION:Restaurant Rössli, Kempttalstrasse 52, Illnau.
SUMMARY:Kantonaler Wahltreff
ORGANIZER:
URL;VALUE=URI:https://www.svp-zuerich.ch/aktuell/termine/kantonaler-wahltreff/
TRANSP:OPAQUE
END:VEVENT
END:VCALENDAR
