BEGIN:VCALENDAR
VERSION:2.0
PRODID:-//SVP Kanton Zürich //NONSGML Events //EN
CALSCALE:GREGORIAN
X-WR-CALNAME:SVP Kanton Zürich
BEGIN:VEVENT
CREATED:20231018T091744Z
UID:33579
DTEND:20231026T190000
DTSTART:20231026T183000
DTSTAMP:20260420T145313Z
LOCATION:
DESCRIPTION:Hotel Marriott, Neumühlequai 42, Zürich, u.a. mit alt Bundesrat Chri
SUMMARY:Podium zum Thema «Schweizer Finanzplatz- wohin?»
ORGANIZER:
URL;VALUE=URI:https://www.svp-zuerich.ch/aktuell/termine/podium-zum-thema-schweizer-finanzplatz-wohin/
TRANSP:OPAQUE
END:VEVENT
END:VCALENDAR
