BEGIN:VCALENDAR
VERSION:2.0
PRODID:-//SVP Kanton Zürich //NONSGML Events //EN
CALSCALE:GREGORIAN
X-WR-CALNAME:SVP Kanton Zürich
BEGIN:VEVENT
CREATED:20231220T080432Z
UID:35508
DTEND:20240428T000000
DTSTART:20240426T000000
DTSTAMP:20260424T185851Z
LOCATION:
DESCRIPTION:Sportzentrum Heuel, Rümlang.
SUMMARY:Bezirk Dielsdorf / Rümlang: SVP-Stand an der Gewerbeschau Rümlang
ORGANIZER:
URL;VALUE=URI:https://www.svp-zuerich.ch/aktuell/termine/bezirk-dielsdorf-ruemlang-svp-stand-an-der-gewerbeschau-ruemlang/
TRANSP:OPAQUE
END:VEVENT
END:VCALENDAR
