BEGIN:VCALENDAR
VERSION:2.0
PRODID:-//SVP Kanton Zürich //NONSGML Events //EN
CALSCALE:GREGORIAN
X-WR-CALNAME:SVP Kanton Zürich
BEGIN:VEVENT
CREATED:20240109T150837Z
UID:35673
DTEND:20240124T200000
DTSTART:20240124T190000
DTSTAMP:20260420T104736Z
LOCATION:
DESCRIPTION:Schinzenhof, Alte Landstrasse 24, Horgen, u.a. mit Parteipräsident Do
SUMMARY:Bezirk Horgen / Horgen: Podium zur Uferinitiative
ORGANIZER:
URL;VALUE=URI:https://www.svp-zuerich.ch/aktuell/termine/bezirk-horgen-horgen-podium-zur-uferinitiative/
TRANSP:OPAQUE
END:VEVENT
END:VCALENDAR
