BEGIN:VCALENDAR
VERSION:2.0
PRODID:-//SVP Kanton Zürich //NONSGML Events //EN
CALSCALE:GREGORIAN
X-WR-CALNAME:SVP Kanton Zürich
BEGIN:VEVENT
CREATED:20240226T133759Z
UID:36777
DTEND:20240306T140000
DTSTART:20240306T113000
DTSTAMP:20260421T113338Z
LOCATION:
DESCRIPTION:Restaurant Obermühle, Obermühleweg 1, Flaach, mit Andreas Widmer, eh
SUMMARY:Bezirk Andelfingen: Polit-Lunch
ORGANIZER:
URL;VALUE=URI:https://www.svp-zuerich.ch/aktuell/termine/bezirk-andelfingen-polit-lunch/
TRANSP:OPAQUE
END:VEVENT
END:VCALENDAR
