BEGIN:VCALENDAR
VERSION:2.0
PRODID:-//SVP Kanton Zürich //NONSGML Events //EN
CALSCALE:GREGORIAN
X-WR-CALNAME:SVP Kanton Zürich
BEGIN:VEVENT
CREATED:20240307T100612Z
UID:36955
DTEND:20240426T180000
DTSTART:20240426T170000
DTSTAMP:20260420T090032Z
LOCATION:Gewerbeausstellung\, Rümlang
DESCRIPTION:SVP bi de Lüt mit Nationalrätin Barbara Steinemann
SUMMARY:SVP bi de Lüt mit Nationalrätin Barbara Steinemann
ORGANIZER:
URL;VALUE=URI:https://www.svp-zuerich.ch/aktuell/termine/svp-bi-de-luet-mit-nationalraetin-barbara-steinemann/
TRANSP:OPAQUE
END:VEVENT
END:VCALENDAR
