BEGIN:VCALENDAR
VERSION:2.0
PRODID:-//SVP Kanton Zürich //NONSGML Events //EN
CALSCALE:GREGORIAN
X-WR-CALNAME:SVP Kanton Zürich
BEGIN:VEVENT
CREATED:20240307T100612Z
UID:36964
DTEND:20240429T190000
DTSTART:20240429T183000
DTSTAMP:20260421T151429Z
LOCATION:Schlüsselbar\, Uster
DESCRIPTION:SVP bi de Lüt mit Nationalrat Mauro Tuena
SUMMARY:SVP bi de Lüt mit Nationalrat Mauro Tuena
ORGANIZER:
URL;VALUE=URI:https://www.svp-zuerich.ch/aktuell/termine/svp-bi-de-luet-mit-nationalrat-mauro-tuena/
TRANSP:OPAQUE
END:VEVENT
END:VCALENDAR
