BEGIN:VCALENDAR
VERSION:2.0
PRODID:-//SVP Kanton Zürich //NONSGML Events //EN
CALSCALE:GREGORIAN
X-WR-CALNAME:SVP Kanton Zürich
BEGIN:VEVENT
CREATED:20240307T100612Z
UID:36966
DTEND:20240318T200000
DTSTART:20240318T190000
DTSTAMP:20260420T121451Z
LOCATION:Kath. Kirchgemeindehaus\, Zollikon
DESCRIPTION:SVP bi de Lüt mit Nationalrat Gregor Rutz
SUMMARY:SVP bi de Lüt mit Nationalrat Gregor Rutz
ORGANIZER:
URL;VALUE=URI:https://www.svp-zuerich.ch/aktuell/termine/svp-bi-de-luet-mit-nationalrat-gregor-rutz/
TRANSP:OPAQUE
END:VEVENT
END:VCALENDAR
