BEGIN:VCALENDAR
VERSION:2.0
PRODID:-//SVP Kanton Zürich //NONSGML Events //EN
CALSCALE:GREGORIAN
X-WR-CALNAME:SVP Kanton Zürich
BEGIN:VEVENT
CREATED:20240312T130550Z
UID:37102
DTEND:20240404T200000
DTSTART:20240404T190000
DTSTAMP:20260423T081016Z
LOCATION:
DESCRIPTION:Restaurant Frohe Aussicht, In der Weid 8, Oberrieden.
SUMMARY:Bezirk Horgen: Bezirkshöck
ORGANIZER:
URL;VALUE=URI:https://www.svp-zuerich.ch/aktuell/termine/bezirk-horgen-bezirkshoeck-2/
TRANSP:OPAQUE
END:VEVENT
END:VCALENDAR
