BEGIN:VCALENDAR
VERSION:2.0
PRODID:-//SVP Kanton Zürich //NONSGML Events //EN
CALSCALE:GREGORIAN
X-WR-CALNAME:SVP Kanton Zürich
BEGIN:VEVENT
CREATED:20240325T075609Z
UID:37378
DTEND:20240503T210000
DTSTART:20240503T200000
DTSTAMP:20260419T172007Z
LOCATION:
DESCRIPTION:Thurpark, Volkshausstrasse 23, Wattwil SG, mit Nationalrat Marcel Dett
SUMMARY:Churfirstentagung
ORGANIZER:
URL;VALUE=URI:https://www.svp-zuerich.ch/aktuell/termine/churfirstentagung-2/
TRANSP:OPAQUE
END:VEVENT
END:VCALENDAR
