BEGIN:VCALENDAR
VERSION:2.0
PRODID:-//SVP Kanton ZÃ¼rich //NONSGML Events //EN
CALSCALE:GREGORIAN
X-WR-CALNAME:SVP Kanton ZÃ¼rich
BEGIN:VEVENT
CREATED:20240618T111450Z
UID:38820
DTEND:20240710T170000
DTSTART:20240710T134500
DTSTAMP:20260420T032501Z
LOCATION:
DESCRIPTION:Treffpunkt BÃ¼rkliplatz, MS Etzel, Bootssteg 6, ZÃ¼rich, mit KantonsrÃ
SUMMARY:Schifffahrt auf dem ZÃ¼richsee
ORGANIZER:
URL;VALUE=URI:https://www.svp-zuerich.ch/aktuell/termine/schifffahrt-auf-dem-zuerichsee-2/
TRANSP:OPAQUE
END:VEVENT
END:VCALENDAR
